BEGIN:VCALENDAR
VERSION:2.0
PRODID:-//Squarespace Inc/Squarespace 6//v6//EN
BEGIN:VEVENT
UID:583bd075725e257a97e2d551@squarespace.com
DTSTAMP:20161128T065255Z
DTSTART:20161206T063000Z
DTEND:20161206T093000Z
SUMMARY:VIP Xmas Event
GEO:-34.926023;138.529328
LOCATION:Indy Rose Flowers\, 436 Henley Beach Road\, Lockleys\, SA\, 5032\, 
 Australia
END:VEVENT
END:VCALENDAR
